BEGIN:VCALENDAR
PRODID:-//Google Inc//Google Calendar 70.9054//EN
VERSION:2.0
CALSCALE:GREGORIAN
METHOD:PUBLISH
X-WR-CALNAME:Pernikahan Diana dan Michael
X-WR-TIMEZONE:Asia/Jakarta
X-WR-CALDESC:Pernikahan Diana Tampubolon & Michael Nasution
BEGIN:VEVENT
DTSTART:20220520T020000Z
DTEND:20220520T030000Z
DTSTAMP:20220316T201356Z
ORGANIZER;CN=Pemberkatan dan Resepsi:mailto:p68227rf4u2tqb5orkf10m3u44@group.calen
 dar.google.com
UID:5m3ca0jounu3mnnof0v5qi9b6e@google.com
ATTENDEE;CUTYPE=INDIVIDUAL;ROLE=REQ-PARTICIPANT;PARTSTAT=NEEDS-ACTION;CN=apri.h.gultom@gmail.com;X-NUM-GUESTS=0:mailto:weddingcovenant25@gmail.com
ATTENDEE;CUTYPE=INDIVIDUAL;ROLE=REQ-PARTICIPANT;PARTSTAT=ACCEPTED;CN=apri.h.gultom@gmail.com;X-NUM-GUESTS=0:mailto:weddingcovenant25@gmail.com
X-GOOGLE-CONFERENCE:https://meet.google.com/sey-bzwd-coz
CLASS:PUBLIC
CREATED:20211120T164101Z
DESCRIPTION:<html-blob><b>Salam Sejahtera</b><br>Kami mengundang B
 apak/Ibu/Saudara/i untuk hadir di acara pernikahan kami. Jika Tuhan kehendaki akan di
 adakan di<br><br>Pemberkatan : Gereja HKBP Taman Wisma Asri Bekasi\, 10 Oktober 2026 - 09:00.<
 br>Resepsi : Gedung Prasetya Pondok Gede Bekasi\, 10 Oktober 2026 - 13:00.<br><br>&nbsp\;<a href="" id="ow573" __is_owner
 ="true"></a><br><br>Salam Hangat\,<br><u>Diana dan Michael</u></html-blob>\n\n-::~:~::~:~:~:~:~:~:~:~:~:~:~:~:~:~:~:~:~:~:~:~:~:~
 :~:~:~:~:~:~:~:~:~:~:~:~:~:~::~:~::-\nDo not edit this section of the descr
 iption.\n\n\n\n-::~:~::~:~:~:~:~:~:~:~:~:~:~:~:~:~:~:~:~:~:~:~:~:~:~:~:~:~:~:~:~
 :~:~:~:~:~:~:~::~:~::-
LAST-MODIFIED:20220316T201156Z
LOCATION:Gedung Prasetya Kav. AURI No 85 Jalan Jatimakmur No. 46 Pondok Gede Bekasi, Indonesia
SEQUENCE:0
STATUS:CONFIRMED
SUMMARY:Pernikahan Diana dan Michael
TRANSP:OPAQUE
END:VEVENT
BEGIN:VEVENT
DTSTART:20220521T030000Z
DTEND:20220521T070000Z
DTSTAMP:20220316T201356Z
ORGANIZER;CN=Resepsi dan Pemberkatan:mailto:p68227rf4u2tqb5orkf10m3u44@group.calen
 dar.google.com
UID:01sscn507drh3vuf423pi7s9g0@google.com
ATTENDEE;CUTYPE=INDIVIDUAL;ROLE=REQ-PARTICIPANT;PARTSTAT=NEEDS-ACTION;CN=apri.h.gultom@gmail.com;X-NUM-GUESTS=0:mailto:weddingcovenant25@gmail.com
ATTENDEE;CUTYPE=INDIVIDUAL;ROLE=REQ-PARTICIPANT;PARTSTAT=ACCEPTED;CN=apri.h.gultom@gmail.com;X-NUM-GUESTS=0:mailto:weddingcovenant25@gmail.com
X-GOOGLE-CONFERENCE:https://meet.google.com/sey-bzwd-coz
CLASS:PUBLIC
CREATED:20211120T164336Z
DESCRIPTION:<html-blob><b>Salam Sejahtera</b><br>Kami mengundang B
 apak/Ibu/Saudara/i untuk hadir di acara pernikahan kami. Jika Tuhan kehendaki akan di
 adakan di<br><br>Pemberkatan : Gereja HKBP Taman Wisma Asri Bekasi\, 10 Oktober 2026 - 09:00.<
 br>Resepsi : Gedung Prasetya Pondok Gede Bekasi\, 10 Oktober 2026 - 13:00.<br><br>&nbsp\;<a href="" id="ow994" __is_owner
 ="true"></a><br><br>Salam Hangat\,<br><u>Diana dan Michael</u></html-blob>\n\n-::~:~::~:~:~:~:~:~:~:~:~:~:~:~:~:~:~:~:~:~:~:~:~:~
 :~:~:~:~:~:~:~:~:~:~:~:~:~:~::~:~::-\nDo not edit this section of the descr
 iption.\n\n\n\n-::~:~::~:~:~:~:~:~:~:~:~:~:~:~:~:~:~:~:~:~:~:~:~:~:~:~:~:~:~:~:~
 :~:~:~:~:~:~:~::~:~::-
LAST-MODIFIED:20220316T201316Z
LOCATION:Gedung Prasetya Kav. AURI No 85 Jalan Jatimakmur No. 46 Pondok Gede Bekasi, Indonesia
SEQUENCE:0
STATUS:CONFIRMED
SUMMARY:Pernikahan Diana dan Michael
TRANSP:OPAQUE
END:VEVENT
END:VCALENDAR
